BEGIN:VCALENDAR
VERSION:2.0
PRODID:-//wp-events-plugin.com//6.6.3//EN
TZID:Europe/Berlin
X-WR-TIMEZONE:Europe/Berlin
BEGIN:VEVENT
UID:471@vaeterzentrum-berlin.de
DTSTART;TZID=Europe/Berlin:20261015T150000
DTEND;TZID=Europe/Berlin:20261017T130000
DTSTAMP:20260116T102956Z
URL:https://vaeterzentrum-berlin.de/events/workshop-iv-fuer-fachleute-wie-
 koennen-wir-vaeter-verstehen/
SUMMARY:Workshop IV für Fachleute - Wie können wir Väter verstehen?
DESCRIPTION:WORKSHOP IV FÜR FACHLEUTE\nWie können wir Väter verstehen? 
 – Eine Auseinandersetzung mit Väter- und Mütterbildern in ihrer Beharr
 lichkeit und Dynamik\nViele Mütter und Väter finden sich früher oder sp
 äter in alten Rollenmustern wieder\, obwohl sie vieles ganz anders machen
  wollten….Woher kommt die Beharrlichkeit der Vater- und Mutterbilder und
  -rollen? Im praxisorientierten Seminar wollen wir uns mit Paar- und Elter
 ndynamiken beschäftigen\, mit Schwerpunkt bei den Vätern.\n\nLeitung: E
 berhard Schäfer und Silvia Bonapace\n\nZielgruppe: Fachkräfte in der El
 tern-\, Familien- und Erziehungsberatung\n\nTermin: Do.\, 15.10.2026 ab 1
 5:00 Uhr / Sa.\, 17.10.2026 bis 13:00 Uhr\n\nTeilnahmebeitrag: 365 Euro\n
 \nVeranstalter\, Anmeldung und Ort: EZI\, Berlin – www.ezi-berlin.de
CATEGORIES:Seminarangebote
END:VEVENT
BEGIN:VTIMEZONE
TZID:Europe/Berlin
X-LIC-LOCATION:Europe/Berlin
BEGIN:DAYLIGHT
DTSTART:20260329T030000
TZOFFSETFROM:+0100
TZOFFSETTO:+0200
TZNAME:CEST
END:DAYLIGHT
END:VTIMEZONE
END:VCALENDAR