BEGIN:VCALENDAR
VERSION:2.0
PRODID:-//wp-events-plugin.com//6.6.3//EN
TZID:Europe/Berlin
X-WR-TIMEZONE:Europe/Berlin
BEGIN:VEVENT
UID:466@vaeterzentrum-berlin.de
DTSTART;TZID=Europe/Berlin;VALUE=DATE:20261008
DTEND;TZID=Europe/Berlin;VALUE=DATE:20261009
DTSTAMP:20260112T142936Z
URL:https://vaeterzentrum-berlin.de/events/workshop-iii-fuer-fachleute-vae
 tergruppen-nach-trennung-leiten-haltung-struktur-methoden/
SUMMARY:Workshop III für Fachleute - Vätergruppen nach Trennung leiten 
 – Haltung\, Struktur\, Methoden
DESCRIPTION:WORKSHOP III FÜR FACHLEUTE\n\nVätergruppen nach Trennung leit
 en – Haltung\, Struktur\, Methoden\n\nVätergruppen nach Trennung bieten
  einen geschützten Raum für Austausch\, Reflexion und Entwicklung. Sie w
 irken entlastend\, stärken die väterliche Rolle und eröffnen neue Persp
 ektiven im Umgang mit Konflikten\, Schuldgefühlen\, Ohnmacht und Beziehun
 gsabbrüchen. Die Perspektive der Kinder bildet dabei den zentralen Bezugs
 rahmen für Reflexion und Veränderung. Das Seminar vermittelt\, wie solch
 e Gruppen fachlich fundiert\, praxisnah und sicher in der Moderation gesta
 ltet werden können.\n\nIm Fokus stehen Ziele und Besonderheiten von Väte
 rgruppen nach Trennung\, der strukturierte Aufbau eines bewährten 10- bis
  12-teiligen Gruppenprogramms sowie  zentrale Themenmodule wie Trennung a
 us der Kinderperspektive\, Kommunikation mit der Mutter\, Selbstfürsorge\
 , eigenes Vaterbild und neue Partnerschaft.\n\nWeitere Schwerpunkte sind L
 eitungsrolle und Gruppenprozesse\, Praxisbausteine\, Haltung und Sprache i
 n der Arbeit mit Vätern sowie typische Herausforderungen in der Arbeit mi
 t dieser Zielgruppe. Materialien und Arbeitsblätter werden zur Verfügung
  gestellt.\n\nEs ist möglich\, dieses Seminar als Doppelseminar mit Works
 hop II zu buchen.\n\nTermin: 08.10.2026 (ganztägig)\n\nKürzel: 8238/26\n
 \nOrt: Väterzentrum Berlin · Marienburger Str. 28 · 10405 Berlin\n\nVer
 anstalter: Sozialpädagogisches Fortbildungsinstitut Berlin-Brandenburg (S
 FBB)\n\nAnmeldung: über www.sfbb.berlin-brandenburg.de\n\nLeitung: Marc S
 chulte
CATEGORIES:Seminarangebote
END:VEVENT
BEGIN:VTIMEZONE
TZID:Europe/Berlin
X-LIC-LOCATION:Europe/Berlin
BEGIN:DAYLIGHT
DTSTART:20260329T030000
TZOFFSETFROM:+0100
TZOFFSETTO:+0200
TZNAME:CEST
END:DAYLIGHT
END:VTIMEZONE
END:VCALENDAR