BEGIN:VCALENDAR
VERSION:2.0
PRODID:-//wp-events-plugin.com//6.6.3//EN
TZID:Europe/Berlin
X-WR-TIMEZONE:Europe/Berlin
BEGIN:VEVENT
UID:465@vaeterzentrum-berlin.de
DTSTART;TZID=Europe/Berlin;VALUE=DATE:20261007
DTEND;TZID=Europe/Berlin;VALUE=DATE:20261008
DTSTAMP:20260112T143136Z
URL:https://vaeterzentrum-berlin.de/events/workshop-ii-fuer-fachleute-vaet
 er-im-beratungskontext-in-und-nach-trennung-und-scheidung/
SUMMARY:Workshop II für Fachleute - Väter im Beratungskontext in und nach
  Trennung und Scheidung
DESCRIPTION:WORKSHOP II FÜR FACHLEUTE\n\nVäter im Beratungskontext in und
  nach Trennung und Scheidung\n\nImmer mehr Väter bekunden den Wunsch\, au
 ch nach einer Trennung eine aktive und engagierte Rolle im Leben ihrer Kin
 der zu spielen. Trotz dieses gesteigerten Engagements fehlt es jedoch an a
 ngemessenen Vorbildern und Unterstützungsangeboten für eine konstruktive
  und verantwortungsbewusste Vaterschaft nach einer Trennung oder Scheidung
 . Viele Väter empfinden in solchen Situationen\, dass ihre Anliegen in de
 n relevanten institutionellen und professionellen Strukturen nicht ausreic
 hend gehört und unterstützt werden.\n\nDer Workshop wird sich u.a. mit f
 olgenden Themen beschäftigen:\n\n 	Rechtliche und gesellschaftliche Situa
 tion nach Trennung aus der Perspektive von Vätern\n 	Ansätze für lösun
 gsorientierte Haltungen und Beratung im Umgang mit Vätern\n 	exemplarisch
 es Arbeiten mit Fällen aus der Arbeitspraxis\n 	Wie können Mitarbeiter:i
 nnen aus Beratungsstellen effektiv mit Vätern zusammenarbeiten?\n\nEs bie
 tet sich an\, dieses Seminar als Doppelseminar mit Workshop III zu buchen.
 \n\nTermin: 07.10.2026 (ganztägig)\n\nKürzel: 8237/26\n\nOrt: Väterzent
 rum Berlin · Marienburger Str. 28 · 10405 Berlin\n\nVeranstalter: Sozial
 pädagogisches Fortbildungsinstitut Berlin-Brandenburg (SFBB)\n\nAnmeldung
 : über www.sfbb.berlin-brandenburg.de\n\nLeitung: Marc Schulte
CATEGORIES:Seminarangebote
END:VEVENT
BEGIN:VTIMEZONE
TZID:Europe/Berlin
X-LIC-LOCATION:Europe/Berlin
BEGIN:DAYLIGHT
DTSTART:20260329T030000
TZOFFSETFROM:+0100
TZOFFSETTO:+0200
TZNAME:CEST
END:DAYLIGHT
END:VTIMEZONE
END:VCALENDAR