BEGIN:VCALENDAR
VERSION:2.0
PRODID:-//wp-events-plugin.com//6.6.3//EN
TZID:Europe/Berlin
X-WR-TIMEZONE:Europe/Berlin
BEGIN:VEVENT
UID:469@vaeterzentrum-berlin.de
DTSTART;TZID=Europe/Berlin:20260905T110000
DTEND;TZID=Europe/Berlin:20260905T170000
DTSTAMP:20260116T101851Z
URL:https://vaeterzentrum-berlin.de/events/wild-unterwegs-koenigsheide-hue
 ttenbau-spiele-2/
SUMMARY:Wild unterwegs – Wuhlheide
DESCRIPTION:Wild unterwegs mit den naturbegleiter*\n\nDas Väterzentrum Ber
 lin und die naturbegleiter* (Stiftung Naturschutz) laden euch auch 2026 wi
 eder gemeinsam ein zur kostenfreien Veranstaltungsreihe »Wild unterwegs«
 : ein wildnispädagogisches Angebot für Väter und ihre Kinder (ca. 6–1
 2 Jahre).\n\nAn drei Terminen werdet ihr Euch mit Philipp viel Zeit nehmen
  und die Berliner Stadtnatur erkunden – neugierig\, spielerisch und ents
 chleunigt. Wir erkunden gemeinsam Wälder und Wiesen\, beobachten Tiere un
 d Pflanzen\, spielen\, experimentieren\, schnitzen\, bauen Hütten und erl
 eben Natur mitallen Sinnen. Dabei steht nicht Leistung oder Wissen im Vord
 ergrund\, sondern Beziehung\, gemeinsames Entdecken und echtes Draußensei
 n – fernab von Alltag und Bildschirm.\n\nDieses Jahr haben wir die Termi
 ne zeitlich auf 6 Stunden verlängert. Wer also nochmal den Vibe von unser
 en Papa-Kind-Reisen aufleben lassen möchte und mit seinem Kind(er) einen 
 Tag in die Natur eintauchen will\, ist hier genau richtig.\n\nBenötigt wi
 rd in der Regel einfach nur bequeme und wetterfeste Kleidung und der genau
 e Treffpunkt wird bei der Anmeldung bekannt gegeben.\n\nweitere Termine:\n
 \n27.06. Königsheide (11–17 Uhr)\n05.09. Wuhlheide (11–17 Uhr)\n03.10
 . Königsheide (11–17 Uhr)\n\nAnmeldung über info@vaeterzentrum-berlin.
 de
CATEGORIES:wild-unterwegs
END:VEVENT
BEGIN:VTIMEZONE
TZID:Europe/Berlin
X-LIC-LOCATION:Europe/Berlin
BEGIN:DAYLIGHT
DTSTART:20260329T030000
TZOFFSETFROM:+0100
TZOFFSETTO:+0200
TZNAME:CEST
END:DAYLIGHT
END:VTIMEZONE
END:VCALENDAR