BEGIN:VCALENDAR
VERSION:2.0
PRODID:-//wp-events-plugin.com//6.6.3//EN
TZID:Europe/Berlin
X-WR-TIMEZONE:Europe/Berlin
BEGIN:VEVENT
UID:462@vaeterzentrum-berlin.de
DTSTART;TZID=Europe/Berlin:20260911T000000
DTEND;TZID=Europe/Berlin:20260913T000000
DTSTAMP:20260107T094745Z
URL:https://vaeterzentrum-berlin.de/events/vater-kind-reise-tipidorf-drei-
 eichen-4/
SUMMARY:Vater-Kind-Reise Tipidorf "Drei Eichen"
DESCRIPTION:Abenteuer im Tipidorf\nAbenteuer\, Natur und unvergessliche Mom
 ente – auch dieses Jahr ist das Tipidorf in Drei Eichen unser besonderer
  Rückzugsort für Väter und Kinder! Wir übernachten in Tipis\, entfache
 n Lagerfeuer\, trommeln\, singen und erleben die Natur in ihrer ganzen Fü
 lle. Gemeinsam meistern wir Herausforderungen\, teilen Geschichten und gen
 ießen die Freiheit fernab des Alltags. Wir teilen Geschichten\, die lange
  in Erinnerung bleiben und stärken die Verbindung zwischen Vätern und Ki
 ndern. Selbstverständlich sind bei allen Reisen auch Onkels\, Paten und M
 entoren der Kinder willkommen.\nTermine:\n08. Mai 2026 - 10. Mai 2026 (Sch
 ulkinder)\n29. Mai 2026 - 31. Mai 2026 (Kitakinder)\n04. September 2026 - 
 09. September 2026 (Kitakinder)\n11. September 2026 - 13. September 2026 
 (Schulkinder)\n18. September 2026 -20.September 2026 (Schulkinder)\n Koste
 n: 30€ für Bezieher von staatlichen Transferleistungen (z.B. Bürgergel
 d\, Wohngeld\, BuT\, Bafög\, Kindergeldzuschlag\, Pflegegeld). Dieses Ang
 ebot kann alle zwei Jahre genutzt werden.\n Selbstzahler: 240\,- € pro V
 ater-Kind-Team (+ 65\,- € für jedes weitere Kind)\n\n Ort:  Umweltzentr
 um "Drei Eichen" - www.dreichen.de\n Anmeldung: per Mail ans Väterzentru
 m Berlin - reisen@vaeterzentrum-berlin.de\n
END:VEVENT
BEGIN:VTIMEZONE
TZID:Europe/Berlin
X-LIC-LOCATION:Europe/Berlin
BEGIN:DAYLIGHT
DTSTART:20260329T030000
TZOFFSETFROM:+0100
TZOFFSETTO:+0200
TZNAME:CEST
END:DAYLIGHT
END:VTIMEZONE
END:VCALENDAR