BEGIN:VCALENDAR
VERSION:2.0
PRODID:-//wp-events-plugin.com//6.6.3//EN
TZID:Europe/Berlin
X-WR-TIMEZONE:Europe/Berlin
BEGIN:VEVENT
UID:88@vaeterzentrum-berlin.de
DTSTART;TZID=Europe/Berlin;VALUE=DATE:20240827
DTEND;TZID=Europe/Berlin;VALUE=DATE:20240831
DTSTAMP:20240423T113330Z
URL:https://vaeterzentrum-berlin.de/events/sommerspecial-waterworld-in-der
 -wilden-heimat-in-fuerstenberg/
SUMMARY:SOMMERSPECIAL - Waterworld in der „Wilden Heimat“ in Fürstenbe
 rg
DESCRIPTION:Waterworld in der „Wilden Heimat“ in Fürstenberg\n\nZiel d
 er »Waterworld-Reise« ist diesmal die »Wilde Heimat« bei Fürstenberg.
  In unserem Camp wird sich alles rund um das Element Wasser drehen: Kanufa
 hren\, Wasserschlacht\, Floßbauen\, Baden u.v.m. Auf dem Campingplatz hab
 en wir den Gemeinschaftsplatz für uns reserviert. Die Unterbringung finde
 t im eigenen Zelt statt. Wer will\, kann auch schon vorher anreisen.\n\nTe
 rmin: Dienstag\, 27. August 2024 (ab 13 Uhr) – Freitag\, 30. August 2024
  (Letzte Sommerferienwoche)\nAlter: ab 6 Jahren\nPreis: 260\,- EUR für Va
 ter mit einem Kind + 65\,- EUR für jedes weitere Kind\n(Geringverdiener b
 zw. Bürgergeldbezieher können bei unsere Reisen für einen reduzierten T
 eilnahmebeitrag von 30 € mitfahren. Bitte wendet Euch an uns!)\nOrt:  W
 ilde-Heimat - Naturcamping in Brandenburg an der Havel - Zehdenicker Str. 
 34d\, 16798 Fürstenberg/Havel\nEine Anmeldung ist erforderlich unter 030 
 28 38 98 61 oder an info@vaeterzentrum-berlin.de.
CATEGORIES:sommerspecial
END:VEVENT
BEGIN:VTIMEZONE
TZID:Europe/Berlin
X-LIC-LOCATION:Europe/Berlin
BEGIN:DAYLIGHT
DTSTART:20240331T030000
TZOFFSETFROM:+0100
TZOFFSETTO:+0200
TZNAME:CEST
END:DAYLIGHT
END:VTIMEZONE
END:VCALENDAR