BEGIN:VCALENDAR
VERSION:2.0
PRODID:-//wp-events-plugin.com//6.6.3//EN
TZID:Europe/Berlin
X-WR-TIMEZONE:Europe/Berlin
BEGIN:VEVENT
UID:229@vaeterzentrum-berlin.de
DTSTART;TZID=Europe/Berlin:20250714T190000
DTEND;TZID=Europe/Berlin:20250714T203000
DTSTAMP:20250709T115431Z
URL:https://vaeterzentrum-berlin.de/events/papakreis-im-vaeterzentrum-6/
SUMMARY:Papakreis im Väterzentrum
DESCRIPTION:Hier geht es um uns! Ohne Kinder kommen wir einmal im Monat am 
 Abend in einer kleinen\, offenen Runde zusammen und nehmen uns Zeit zum Re
 flektieren\, Zuhören und Nachsinnen. Was beschäftigt mich\, wie fühle i
 ch und wie gehe ich damit um? Teilen der eigenen Gedanken und Gefühle ste
 ht hier im Mittelpunkt\, genauso wie das Hören und Gehört werden.\n\nWen
 n das bereits nach eurem Geschmack ist\, ihr jedoch diesen Monat nicht k
 önnt\, dann scheut euch nicht mir bereits euer Interesse zu bekunden per
  Mail an eric.barten@vaeterzentrum-berlin.de und ich nehme euch in den V
 erteiler mit auf.\n\nWer direkt dabei sein mag\, der meldet sich bei mir a
 n!\n\nTermin: geöffnet ab 18:45 Uhr\, Startschuss um 19:00 Uhr\nKosten: 
 keine\nAnmeldung: Meldet euch für unsere Planung gerne per E-Mail an: e
 ric.barten@vaeterzentrum-berlin.de
CATEGORIES:Papakreis
LOCATION:Väterzentrum Berlin\, Marienburger Straße 28\, 10405 Berlin\, De
 utschland
X-APPLE-STRUCTURED-LOCATION;VALUE=URI;X-ADDRESS=Marienburger Straße 28\, 1
 0405 Berlin\, Deutschland;X-APPLE-RADIUS=100;X-TITLE=Väterzentrum Berlin:
 geo:0,0
END:VEVENT
BEGIN:VTIMEZONE
TZID:Europe/Berlin
X-LIC-LOCATION:Europe/Berlin
BEGIN:DAYLIGHT
DTSTART:20250330T030000
TZOFFSETFROM:+0100
TZOFFSETTO:+0200
TZNAME:CEST
END:DAYLIGHT
END:VTIMEZONE
END:VCALENDAR