BEGIN:VCALENDAR
VERSION:2.0
PRODID:-//wp-events-plugin.com//6.6.3//EN
TZID:Europe/Berlin
X-WR-TIMEZONE:Europe/Berlin
BEGIN:VEVENT
UID:100@vaeterzentrum-berlin.de
DTSTART;TZID=Europe/Berlin:20241021T190000
DTEND;TZID=Europe/Berlin:20241021T203000
DTSTAMP:20241016T093713Z
URL:https://vaeterzentrum-berlin.de/events/papakreis-im-vaeterzentrum-2/
SUMMARY:Papakreis im Väterzentrum
DESCRIPTION:Hier geht es um uns! Ohne Kinder kommen wir einmal im Monat am 
 Abend in einer kleinen\, offenen Runde zusammen und nehmen uns Zeit zum Re
 flektieren\, Zuhören und Nachsinnen. Was beschäftigt mich\, wie fühle i
 ch und wie gehe ich damit um? Teilen der eigenen Gedanken und Gefühle ste
 ht hier im Mittelpunkt\, genauso wie das Hören und Gehört werden.\n\nWen
 n das bereits nach eurem Geschmack ist\, ihr jedoch diesen Monat nicht kö
 nnt\, dann scheut euch nicht mir bereits euer Interesse per Mail zu bekund
 en und ich nehme euch in den Verteiler mit auf.\n\nWer direkt dabei sein m
 ag\, der meldet sich bei mir an!\n\nTermin: Montag\, der 21.10.2024\, pün
 ktlich um 19:00 Uhr (geöffnet ab 18:45 Uhr)\nKosten: keine\nAnmeldung: M
 eldet euch für unsere Planung bitte per E-Mail an: eric.barten@vaeterzent
 rum-berlin.de
CATEGORIES:Papakreis
END:VEVENT
BEGIN:VTIMEZONE
TZID:Europe/Berlin
X-LIC-LOCATION:Europe/Berlin
BEGIN:DAYLIGHT
DTSTART:20240331T030000
TZOFFSETFROM:+0100
TZOFFSETTO:+0200
TZNAME:CEST
END:DAYLIGHT
END:VTIMEZONE
END:VCALENDAR