BEGIN:VCALENDAR
VERSION:2.0
PRODID:-//wp-events-plugin.com//6.6.3//EN
TZID:Europe/Berlin
X-WR-TIMEZONE:Europe/Berlin
BEGIN:VEVENT
UID:557@vaeterzentrum-berlin.de
DTSTART;TZID=Europe/Berlin:20260720T153000
DTEND;TZID=Europe/Berlin:20260720T173000
DTSTAMP:20260410T094428Z
URL:https://vaeterzentrum-berlin.de/events/monday-funday-2-2026-07-20/
SUMMARY:Monday Funday (copy)
DESCRIPTION:Das Papa-Kind-Café im Väterzentrum\n\nDer Tobe-Nachmittag im 
 Väterzentrum wird zum Papa-Kind-Café unter dem neuen Motto „Monday Fun
 day“.\nWir öffnen wieder Montags von 15:30 bis 17:30 unsere Türen und 
 ihr könnt mit euren Kindern (1-4 Jahre) vorbeischauen.\nStöbert im Spiel
 zeug\, vollführt athletische Turnkunst mit den Kleinen\, lest gemeinsam e
 in Buch oder erfreut Euch an der Erkundungsreise Eurer Kinder.\n\nWir freu
 en uns auf Euch!\n\nTermine: 14-täglich\, immer Montags von 15:30-17:30 U
 hr\nKosten: freiwillige Spende (~5€ pro Vater mit Kind)\nAnmeldung: nich
 t nötig\, aber du kannst in unseren Verteiler aufgenommen werden für a
 ktuelle Ankündigungen zum Termin
CATEGORIES:Monday-Funday
LOCATION:Väterzentrum e.V.\, Marienburger Str. 28\, Berlin\, 10405\, Deuts
 chland
X-APPLE-STRUCTURED-LOCATION;VALUE=URI;X-ADDRESS=Marienburger Str. 28\, Berl
 in\, 10405\, Deutschland;X-APPLE-RADIUS=100;X-TITLE=Väterzentrum e.V.:geo
 :0,0
END:VEVENT
BEGIN:VTIMEZONE
TZID:Europe/Berlin
X-LIC-LOCATION:Europe/Berlin
BEGIN:DAYLIGHT
DTSTART:20260329T030000
TZOFFSETFROM:+0100
TZOFFSETTO:+0200
TZNAME:CEST
END:DAYLIGHT
END:VTIMEZONE
END:VCALENDAR