BEGIN:VCALENDAR
VERSION:2.0
PRODID:-//wp-events-plugin.com//6.6.3//EN
TZID:Europe/Berlin
X-WR-TIMEZONE:Europe/Berlin
BEGIN:VEVENT
UID:97@vaeterzentrum-berlin.de
DTSTART;TZID=Europe/Berlin:20240531T170000
DTEND;TZID=Europe/Berlin:20240531T193000
DTSTAMP:20240510T153227Z
URL:https://vaeterzentrum-berlin.de/events/kinder-empathisch-begleiten-gfk
 -einfuehrung-fuer-vaeter-2/
SUMMARY:Kinder empathisch begleiten - GfK-Einführung für Väter
DESCRIPTION:Wir freuen uns in Zusammenarbeit mit dem GfK-Trainer Raimar Oes
 treich im Mai zwei Abende zum Thema "Kinder empathisch begleiten" veransta
 lten zu können.\n\nDer Workshop ist für alle Väter\, die die Gewaltfrei
 e Kommunikation von Marshall Rosenberg ausprobieren möchten. Ein kurzer 
 Überblick über die Kommunikationsmethode und zwei Übungen zum Spüren\,
  wie die Methode wirken kann\, bringen Theorie und Praxis zusammen und mö
 chten einen Raum für gegenseitigen Austausch schaffen.\n\nRaimar vermitte
 lt dir in 2\,5 Stunden einen ersten Einstieg in die Gewaltfreie Kommunikat
 ion nach Marshall Rosenberg und lädt ein zur Reflektion über die eigene 
 Kommunikation mit seinem Kind.\n\nKosten: kostenfrei\nAnmeldung: Meldet 
 euch bitte per E-Mail unter info@vaeterzentrum-berlin.de an.
LOCATION:Väterzentrum Berlin\, Marienburger Straße 28\, 10405 Berlin\, De
 utschland
X-APPLE-STRUCTURED-LOCATION;VALUE=URI;X-ADDRESS=Marienburger Straße 28\, 1
 0405 Berlin\, Deutschland;X-APPLE-RADIUS=100;X-TITLE=Väterzentrum Berlin:
 geo:0,0
END:VEVENT
BEGIN:VTIMEZONE
TZID:Europe/Berlin
X-LIC-LOCATION:Europe/Berlin
BEGIN:DAYLIGHT
DTSTART:20240331T030000
TZOFFSETFROM:+0100
TZOFFSETTO:+0200
TZNAME:CEST
END:DAYLIGHT
END:VTIMEZONE
END:VCALENDAR