BEGIN:VCALENDAR
VERSION:2.0
PRODID:-//wp-events-plugin.com//6.6.3//EN
TZID:Europe/Berlin
X-WR-TIMEZONE:Europe/Berlin
BEGIN:VEVENT
UID:89@vaeterzentrum-berlin.de
DTSTART;TZID=Europe/Berlin;VALUE=DATE:20240503
DTEND;TZID=Europe/Berlin;VALUE=DATE:20240506
DTSTAMP:20240423T120728Z
URL:https://vaeterzentrum-berlin.de/events/abenteuer-im-tipidorf-schulkind
 er/
SUMMARY:Abenteuer im Tipidorf (Schulkinder)
DESCRIPTION:Abenteuer im Tipidorf (Schulkinder)\n\nAuch in diesem Jahr blei
 bt das Tipidorf in 3. Eichen für uns ein ganz besonderer Ort. Wir haben u
 nser Angebot auf sechs Reisen für Väter und Kinder erweitert.\n\nWir üb
 ernachten in Tipis\, erleben die pure Natur\, machen Feuer\, fahren Floß\
 , trommeln und singen. Wir teilen Geschichten\, die lange in Erinnerung bl
 eiben und stärken somit die Verbindung zwischen Vätern und Kindern.\n\nS
 elbstverständlich sind bei allen Reisen auch Onkels\, Paten und Mentoren 
 der Kinder willkommen.\n\nKosten: 235\,- € für Vater mit einem Kind + 6
 5\,- € für jedes weitere Kind(inkl. Übernachtung\, Verpflegung\, Mater
 ial)\nPreisermäßigungen für Geringverdiener und Arbeitslose sind nach A
 bsprache möglich. (Reise ab dem 17.05. – 330\,- EUR für Vater mit eine
 m Kind + 100\,- EUR für jedes weitere Kind)\nOrt: Hof Drei Eichen · Kön
 igstr. 62 · 15377 Buckow\, www.dreichen.de\nAnmeldung: Väterzentrum Berl
 in · 030 28 38 98 61
CATEGORIES:Tipidorf
END:VEVENT
BEGIN:VTIMEZONE
TZID:Europe/Berlin
X-LIC-LOCATION:Europe/Berlin
BEGIN:DAYLIGHT
DTSTART:20240331T030000
TZOFFSETFROM:+0100
TZOFFSETTO:+0200
TZNAME:CEST
END:DAYLIGHT
END:VTIMEZONE
END:VCALENDAR