BEGIN:VCALENDAR
VERSION:2.0
PRODID:-//wp-events-plugin.com//6.6.3//EN
TZID:Europe/Berlin
X-WR-TIMEZONE:Europe/Berlin
BEGIN:VEVENT
UID:92@vaeterzentrum-berlin.de
DTSTART;TZID=Europe/Berlin;VALUE=DATE:20240913
DTEND;TZID=Europe/Berlin;VALUE=DATE:20240916
DTSTAMP:20240423T121248Z
URL:https://vaeterzentrum-berlin.de/events/abenteuer-im-tipidorf-kitakinde
 r-2/
SUMMARY:Abenteuer im Tipidorf (Kitakinder)
DESCRIPTION:Abenteuer im Tipidorf (Kitakinder)\n\nAuch in diesem Jahr bleib
 t das Tipidorf in 3. Eichen für uns ein ganz besonderer Ort. Wir haben un
 ser Angebot auf sechs Reisen für Väter und Kinder erweitert.\n\nWir übe
 rnachten in Tipis\, erleben die pure Natur\, machen Feuer\, fahren Floß\,
  trommeln und singen. Wir teilen Geschichten\, die lange in Erinnerung ble
 iben und stärken somit die Verbindung zwischen Vätern und Kindern.\n\nSe
 lbstverständlich sind bei allen Reisen auch Onkels\, Paten und Mentoren d
 er Kinder willkommen.\n\nKosten: 235\,- € für Vater mit einem Kind + 65
 \,- € für jedes weitere Kind(inkl. Übernachtung\, Verpflegung\, Materi
 al)\nPreisermäßigungen für Geringverdiener und Arbeitslose sind nach Ab
 sprache möglich. (Reise ab dem 17.05. – 330\,- EUR für Vater mit einem
  Kind + 100\,- EUR für jedes weitere Kind)\nOrt: Hof Drei Eichen · Köni
 gstr. 62 · 15377 Buckow\, www.dreichen.de\nAnmeldung: Väterzentrum Berli
 n · 030 28 38 98 61
CATEGORIES:Tipidorf
END:VEVENT
BEGIN:VTIMEZONE
TZID:Europe/Berlin
X-LIC-LOCATION:Europe/Berlin
BEGIN:DAYLIGHT
DTSTART:20240331T030000
TZOFFSETFROM:+0100
TZOFFSETTO:+0200
TZNAME:CEST
END:DAYLIGHT
END:VTIMEZONE
END:VCALENDAR